BEGIN:VCALENDAR
VERSION:2.0
PRODID:-//ChamberMaster//Event Calendar 2.0//EN
METHOD:PUBLISH
X-PUBLISHED-TTL:P3D
REFRESH-INTERVAL:P3D
CALSCALE:GREGORIAN
BEGIN:VEVENT
DTSTART:20190908T150000Z
DTEND:20190908T210000Z
X-MICROSOFT-CDO-ALLDAYEVENT:FALSE
SUMMARY:Yesy's Sunday Brunch
DESCRIPTION:Sunday Brunch
X-ALT-DESC;FMTTYPE=text/html:Sunday Brunch
LOCATION:Yesy's Restaurant\, 5 Broadway Circle\, King City\, CA
UID:e.2756.2612
SEQUENCE:3
DTSTAMP:20260424T101835Z
URL:https://kingcitychamber-brooks-gzcms.preview.gochambermaster.com/events/details/yesy-s-sunday-brunch-09-08-2019-2612
END:VEVENT

END:VCALENDAR
