BEGIN:VCALENDAR
VERSION:2.0
PRODID:-//ChamberMaster//Event Calendar 2.0//EN
METHOD:PUBLISH
X-PUBLISHED-TTL:P3D
REFRESH-INTERVAL:P3D
CALSCALE:GREGORIAN
BEGIN:VEVENT
DTSTART:20201112T200000Z
DTEND:20201112T210000Z
X-MICROSOFT-CDO-ALLDAYEVENT:FALSE
SUMMARY:Virtual Chamber Luncheon
DESCRIPTION:Virtual Luncheon on Zoom. Presentation explaining and discussing the ins and outs of the CalSavers program\, and the SECURE Act.
X-ALT-DESC;FMTTYPE=text/html:Virtual Luncheon on Zoom. Presentation explaining and discussing the ins and outs of the CalSavers program\, and the SECURE Act.
LOCATION:Zoom. send email to kcchambermanager@kingcity.com for a link.
UID:e.2756.4227
SEQUENCE:3
DTSTAMP:20260422T093250Z
URL:https://kingcitychamber-brooks-gzcms.preview.gochambermaster.com/events/details/virtual-chamber-luncheon-4227
END:VEVENT

END:VCALENDAR
