BEGIN:VCALENDAR
VERSION:2.0
PRODID:-//ChamberMaster//Event Calendar 2.0//EN
METHOD:PUBLISH
X-PUBLISHED-TTL:P3D
REFRESH-INTERVAL:P3D
CALSCALE:GREGORIAN
BEGIN:VEVENT
DTSTART:20190427T170000Z
DTEND:20190427T200000Z
X-MICROSOFT-CDO-ALLDAYEVENT:FALSE
SUMMARY:Swiss Sausage BBQ - South County Animal Rescue fundraiser
DESCRIPTION:Swiss Sausage BBQ Fundraiser - South County Animal Rescue\n\nBring your pups along to Los Coches Animal Hospital low cost shot clinic. Microchipping sponsored by SCAR for South County residents only.
X-ALT-DESC;FMTTYPE=text/html:Swiss Sausage BBQ Fundraiser - South County Animal Rescue<br />\nBring your pups along to Los Coches Animal Hospital low cost shot clinic. Microchipping sponsored by SCAR for South County residents only.&nbsp\;
LOCATION:Bill Ramus Park in Soledad\, corner of Soledad/Monterey Streets\, Soledad
UID:e.2756.3671
SEQUENCE:3
DTSTAMP:20260424T220404Z
URL:https://kingcitychamber-brooks-gzcms.preview.gochambermaster.com/events/details/swiss-sausage-bbq-south-county-animal-rescue-fundraiser-3671
END:VEVENT

END:VCALENDAR
