BEGIN:VCALENDAR
VERSION:2.0
PRODID:-//ChamberMaster//Event Calendar 2.0//EN
METHOD:PUBLISH
X-PUBLISHED-TTL:P3D
REFRESH-INTERVAL:P3D
CALSCALE:GREGORIAN
BEGIN:VEVENT
DTSTART:20200311T200000Z
DTEND:20200311T220000Z
X-MICROSOFT-CDO-ALLDAYEVENT:FALSE
SUMMARY:Sol Treasures Watercolor Painting Workshop
DESCRIPTION:Sol Treasures Watercolor Painting Workshop with Katie Mackin
X-ALT-DESC;FMTTYPE=text/html:Sol Treasures Watercolor Painting Workshop with Katie Mackin
LOCATION:519 Broadway\, King City
UID:e.2756.4185
SEQUENCE:3
DTSTAMP:20260423T215508Z
URL:https://kingcitychamber-brooks-gzcms.preview.gochambermaster.com/events/details/sol-treasures-watercolor-painting-workshop-4185
END:VEVENT

END:VCALENDAR
