BEGIN:VCALENDAR
VERSION:2.0
PRODID:-//ChamberMaster//Event Calendar 2.0//EN
METHOD:PUBLISH
X-PUBLISHED-TTL:P3D
REFRESH-INTERVAL:P3D
CALSCALE:GREGORIAN
BEGIN:VEVENT
DTSTART:20190618T170000Z
DTEND:20190618T190000Z
X-MICROSOFT-CDO-ALLDAYEVENT:FALSE
SUMMARY:Sol Treasures Summer Art Camp 2019
DESCRIPTION:Sol Treasures summer Art Camp 2019. Ages 8-14. This year's art camp will focus on teaching artistic techniques with fun and inspiring Artists!\n\n4 sessions\, starts Tuesday\, June 18.
X-ALT-DESC;FMTTYPE=text/html:Sol Treasures summer Art Camp 2019. Ages 8-14. This year&#39\;s art camp will focus on teaching artistic techniques with fun and inspiring Artists!<br />\n4 sessions\, starts Tuesday\, June 18.
LOCATION:Sol Treasures\, 519 Broadway\, King City\,
UID:e.2756.3711
SEQUENCE:3
DTSTAMP:20260424T131548Z
URL:https://kingcitychamber-brooks-gzcms.preview.gochambermaster.com/events/details/sol-treasures-summer-art-camp-2019-3711
END:VEVENT

END:VCALENDAR
