BEGIN:VCALENDAR
VERSION:2.0
PRODID:-//ChamberMaster//Event Calendar 2.0//EN
METHOD:PUBLISH
X-PUBLISHED-TTL:P3D
REFRESH-INTERVAL:P3D
CALSCALE:GREGORIAN
BEGIN:VEVENT
DTSTART:20190223T010000Z
DTEND:20190223T030000Z
X-MICROSOFT-CDO-ALLDAYEVENT:FALSE
SUMMARY:Sol Treasures Meet the Artist
DESCRIPTION:Sol Treasures "Pour Paint Exhibit" Meet the Artist.\n\nArtists - Kari Fowler & Sadie Locke. Live demos.
X-ALT-DESC;FMTTYPE=text/html:Sol Treasures &quot\;Pour Paint Exhibit&quot\; Meet the Artist.<br />\nArtists - Kari Fowler &amp\; Sadie Locke. Live demos.
LOCATION:Sol Treasures\, 519 Broadway\, King City
UID:e.2756.3227
SEQUENCE:3
DTSTAMP:20260425T004558Z
URL:https://kingcitychamber-brooks-gzcms.preview.gochambermaster.com/events/details/sol-treasures-meet-the-artist-3227
END:VEVENT

END:VCALENDAR
