BEGIN:VCALENDAR
VERSION:2.0
PRODID:-//ChamberMaster//Event Calendar 2.0//EN
METHOD:PUBLISH
X-PUBLISHED-TTL:P3D
REFRESH-INTERVAL:P3D
CALSCALE:GREGORIAN
BEGIN:VEVENT
DTSTART:20191101T160000Z
DTEND:20191102T010000Z
X-MICROSOFT-CDO-ALLDAYEVENT:FALSE
SUMMARY:Sol Treasures Face Painting Salon
DESCRIPTION:Dia de los Muertos\, Face Painting Salon.
X-ALT-DESC;FMTTYPE=text/html:Dia de los Muertos\, Face Painting Salon.&nbsp\;
LOCATION:Sol Treasures\, 519 Broadway\, King City
UID:e.2756.3840
SEQUENCE:3
DTSTAMP:20260424T045739Z
URL:https://kingcitychamber-brooks-gzcms.preview.gochambermaster.com/events/details/sol-treasures-face-painting-salon-3840
END:VEVENT

END:VCALENDAR
