BEGIN:VCALENDAR
VERSION:2.0
PRODID:-//ChamberMaster//Event Calendar 2.0//EN
METHOD:PUBLISH
X-PUBLISHED-TTL:P3D
REFRESH-INTERVAL:P3D
CALSCALE:GREGORIAN
BEGIN:VEVENT
DTSTART:20190804T010000Z
DTEND:20190804T030000Z
X-MICROSOFT-CDO-ALLDAYEVENT:FALSE
SUMMARY:Sol Treasures Backyard Concerts
DESCRIPTION:Back Yard Concert \n\nJacqui Hope and David Norum.
X-ALT-DESC;FMTTYPE=text/html:<span style="font-size:14px\;"><strong>Back Yard Concert</strong>&nbsp\;<br />\n<b>Jacqui Hope and David Norum.</b></span>
LOCATION:Sol Treasures Backyard\, 519 Broadway\, King City Bring a chair\, picnic dinner or snacks and drinks.
UID:e.2756.3727
SEQUENCE:3
DTSTAMP:20260424T113440Z
URL:https://kingcitychamber-brooks-gzcms.preview.gochambermaster.com/events/details/sol-treasures-backyard-concerts-3727
END:VEVENT

END:VCALENDAR
