BEGIN:VCALENDAR
VERSION:2.0
PRODID:-//ChamberMaster//Event Calendar 2.0//EN
METHOD:PUBLISH
X-PUBLISHED-TTL:P3D
REFRESH-INTERVAL:P3D
CALSCALE:GREGORIAN
BEGIN:VEVENT
DTSTART:20200315T210000Z
DTEND:20200316T000000Z
X-MICROSOFT-CDO-ALLDAYEVENT:FALSE
SUMMARY:Scheid Vineyards Paint Event Fundraiser
DESCRIPTION:Scheid Vineyards Paint Event Fundraiser for Vista Verde Middle School DC/NY trip
X-ALT-DESC;FMTTYPE=text/html:Scheid Vineyards Paint Event Fundraiser for Vista Verde Middle School DC/NY trip
LOCATION:Scheid Vineyards\, 1972 Hobson Ave\, Greenfield
UID:e.2756.4184
SEQUENCE:3
DTSTAMP:20260423T200951Z
URL:https://kingcitychamber-brooks-gzcms.preview.gochambermaster.com/events/details/scheid-vineyards-paint-event-fundraiser-4184
END:VEVENT

END:VCALENDAR
