BEGIN:VCALENDAR
VERSION:2.0
PRODID:-//ChamberMaster//Event Calendar 2.0//EN
METHOD:PUBLISH
X-PUBLISHED-TTL:P3D
REFRESH-INTERVAL:P3D
CALSCALE:GREGORIAN
BEGIN:VEVENT
DTSTART:20201002T210000Z
DTEND:20201002T210000Z
X-MICROSOFT-CDO-ALLDAYEVENT:FALSE
SUMMARY:Planificación anticipada con VNA
DESCRIPTION:El Centro de Recursos M vil para Latinos de VNA Hospice\, una organizaci n sin fines de lucro brindar  educaci n e informaci n a las familias que hablan espa ol en cuatro ubicaciones. La van\, que fue lanzada en noviembre de 2019\, contin a su misi n de brindar informaci n y recursos sobre decisiones y atenci n relacionados al final de la vida a la comunidad Latinay. Estos pr ximos eventos educativos compartir n informaci n sobre los servicios de VNA\, las opciones de cuidado\, los recursos locales y la importancia de completar una directiva anticipada de salud. Estos eventos son una colaboraci n con CHISPA. La van\, financiada en parte por la fundaci n Hospice Giving Foundation.
X-ALT-DESC;FMTTYPE=text/html:El Centro de Recursos M&oacute\;vil para Latinos de VNA Hospice\, una organizaci&oacute\;n sin fines de lucro brindar&aacute\; educaci&oacute\;n e informaci&oacute\;n a las familias que hablan espa&ntilde\;ol en cuatro ubicaciones. La van\, que fue lanzada en noviembre de 2019\, contin&uacute\;a su misi&oacute\;n de brindar informaci&oacute\;n y recursos sobre decisiones y atenci&oacute\;n relacionados al final de la vida a la comunidad Latinay. Estos pr&oacute\;ximos eventos educativos compartir&aacute\;n informaci&oacute\;n sobre los servicios de VNA\, las opciones de cuidado\, los recursos locales y la importancia de completar una directiva anticipada de salud. Estos eventos son una colaboraci&oacute\;n con CHISPA. La van\, financiada en parte por la fundaci&oacute\;n Hospice Giving Foundation.
LOCATION:Villa San Miguel 1201 Amherst Drive King City\, CA 93930
UID:e.2756.4216
SEQUENCE:3
DTSTAMP:20260422T183325Z
URL:https://kingcitychamber-brooks-gzcms.preview.gochambermaster.com/events/details/planificaci&#243;n-anticipada-con-vna-10-02-2020-4216
END:VEVENT

END:VCALENDAR
