BEGIN:VCALENDAR
VERSION:2.0
PRODID:-//ChamberMaster//Event Calendar 2.0//EN
METHOD:PUBLISH
X-PUBLISHED-TTL:P3D
REFRESH-INTERVAL:P3D
CALSCALE:GREGORIAN
BEGIN:VEVENT
DTSTART:20190911T170000Z
DTEND:20190911T173000Z
X-MICROSOFT-CDO-ALLDAYEVENT:FALSE
SUMMARY:Patriot Day at Fort Hunter Liggett
DESCRIPTION:Fort Hunter Liggett Patriot Day Observance. This event is open to the public. Visitors without a DOD\, Army\, FHL-issued IDs must stop at the Visitor Center for vetting and day pass. Please be prompt as the beginning of the event coincides with the last plane crash in Shanksville\, PA (10:03 EDT)
X-ALT-DESC;FMTTYPE=text/html:Fort Hunter Liggett Patriot Day Observance. This event is open to the public. Visitors without a DOD\, Army\, FHL-issued IDs must stop at the Visitor Center for vetting and day pass. Please be prompt as the beginning of the event coincides with the last plane crash in Shanksville\, PA (10:03 EDT)
LOCATION:Fort Hunter Liggett\, Garrison Flag Pole\, corner of Infantry Rd and California Ave.
UID:e.2756.3749
SEQUENCE:3
DTSTAMP:20260424T071709Z
URL:https://kingcitychamber-brooks-gzcms.preview.gochambermaster.com/events/details/patriot-day-at-fort-hunter-liggett-3749
END:VEVENT

END:VCALENDAR
