BEGIN:VCALENDAR
VERSION:2.0
PRODID:-//ChamberMaster//Event Calendar 2.0//EN
METHOD:PUBLISH
X-PUBLISHED-TTL:P3D
REFRESH-INTERVAL:P3D
CALSCALE:GREGORIAN
BEGIN:VEVENT
DTSTART:20191214T223000Z
DTEND:20191215T003000Z
X-MICROSOFT-CDO-ALLDAYEVENT:FALSE
SUMMARY:Nutcracker Ballet
DESCRIPTION:Monterey County Dance Theater and the Monterey County Dance Foundation Present the 60th production of the Nutcracker Ballet.
X-ALT-DESC;FMTTYPE=text/html:<span style="background-color:rgb(255\, 255\, 255)\; color:rgb(75\, 79\, 86)\; font-family:helvetica\,arial\,sans-serif\; font-size:14px">Monterey County Dance Theater and the Monterey County Dance Foundation Present the 60th production of the Nutcracker Ballet.</span>
LOCATION:Robert Stanton Theater\, King City High School\, Mildred Ave\, King City\, CA 93930
UID:e.2756.3856
SEQUENCE:3
DTSTAMP:20260424T002903Z
URL:https://kingcitychamber-brooks-gzcms.preview.gochambermaster.com/events/details/nutcracker-ballet-3856
END:VEVENT

END:VCALENDAR
