BEGIN:VCALENDAR
VERSION:2.0
PRODID:-//ChamberMaster//Event Calendar 2.0//EN
METHOD:PUBLISH
X-PUBLISHED-TTL:P3D
REFRESH-INTERVAL:P3D
CALSCALE:GREGORIAN
BEGIN:VEVENT
DTSTART:20200116T020000Z
DTEND:20200116T040000Z
X-MICROSOFT-CDO-ALLDAYEVENT:FALSE
SUMMARY:Mo Co Operation Area Community Meeting
DESCRIPTION:Monterey County Operation Area Community Meeting for Hazard Mitigation Plan.
X-ALT-DESC;FMTTYPE=text/html:Monterey County Operation Area Community Meeting for Hazard Mitigation Plan.
LOCATION:San Antonio Valley Community Center\, 65951 Lockwood-Jolon Rd\, Lockwood.
UID:e.2756.4000
SEQUENCE:3
DTSTAMP:20260423T231220Z
URL:https://kingcitychamber-brooks-gzcms.preview.gochambermaster.com/events/details/mo-co-operation-area-community-meeting-4000
END:VEVENT

END:VCALENDAR
