BEGIN:VCALENDAR
VERSION:2.0
PRODID:-//ChamberMaster//Event Calendar 2.0//EN
METHOD:PUBLISH
X-PUBLISHED-TTL:P3D
REFRESH-INTERVAL:P3D
CALSCALE:GREGORIAN
BEGIN:VEVENT
DTSTART;VALUE=DATE:20200112
DTEND;VALUE=DATE:20200113
TRANSP:TRANSPARENT
X-MICROSOFT-CDO-ALLDAYEVENT:TRUE
SUMMARY:Mo. Co. Cattlemen's Assoc & SVF Ranch Rodeo
DESCRIPTION:Monterey County Cattlemen's Association and Salinas Valley Fair Ranch Rodeo.
X-ALT-DESC;FMTTYPE=text/html:Monterey County Cattlemen&#39\;s Association and Salinas Valley Fair Ranch Rodeo.
LOCATION:Rava Equestrian Arena at the Salinas Valley Fairgrounds\, 625 Division St\, King City.
UID:e.2756.3999
SEQUENCE:3
DTSTAMP:20260424T004851Z
URL:https://kingcitychamber-brooks-gzcms.preview.gochambermaster.com/events/details/mo-co-cattlemen-s-assoc-svf-ranch-rodeo-3999
END:VEVENT

END:VCALENDAR
