BEGIN:VCALENDAR
VERSION:2.0
PRODID:-//ChamberMaster//Event Calendar 2.0//EN
METHOD:PUBLISH
X-PUBLISHED-TTL:P3D
REFRESH-INTERVAL:P3D
CALSCALE:GREGORIAN
BEGIN:VEVENT
DTSTART:20181107T180000Z
DTEND:20181107T193000Z
X-MICROSOFT-CDO-ALLDAYEVENT:FALSE
SUMMARY:Medicare Advantage Information Seminar - Spanish Presentation
DESCRIPTION:Get more value from our Medicare Advantage plans than Original Medicare and most supplement plans. RSVP to attend this Spanish seminar presentation\, at www.aspirehealthplan.org/info\, or call (877) 599-9966.
X-ALT-DESC;FMTTYPE=text/html:Get more value from our Medicare Advantage plans than Original Medicare and most supplement plans. RSVP to attend this Spanish seminar presentation\, at www.aspirehealthplan.org/info\, or call (877) 599-9966.
LOCATION:Rabobank (Conference Room) 532 Broadway St. King City\, CA
UID:e.2756.2566
SEQUENCE:3
DTSTAMP:20260425T160329Z
URL:https://kingcitychamber-brooks-gzcms.preview.gochambermaster.com/events/details/medicare-advantage-information-seminar-spanish-presentation-2566
END:VEVENT

END:VCALENDAR
