BEGIN:VCALENDAR
VERSION:2.0
PRODID:-//ChamberMaster//Event Calendar 2.0//EN
METHOD:PUBLISH
X-PUBLISHED-TTL:P3D
REFRESH-INTERVAL:P3D
CALSCALE:GREGORIAN
BEGIN:VEVENT
DTSTART:20200222T190000Z
DTEND:20200222T210000Z
X-MICROSOFT-CDO-ALLDAYEVENT:FALSE
SUMMARY:King City Softball Alumni Game
DESCRIPTION:King City Softball Annual Game
X-ALT-DESC;FMTTYPE=text/html:King City Softball Annual Game
LOCATION:King City High School Softball Field
UID:e.2756.4157
SEQUENCE:3
DTSTAMP:20260423T215356Z
URL:https://kingcitychamber-brooks-gzcms.preview.gochambermaster.com/events/details/king-city-softball-alumni-game-4157
END:VEVENT

END:VCALENDAR
