BEGIN:VCALENDAR
VERSION:2.0
PRODID:-//ChamberMaster//Event Calendar 2.0//EN
METHOD:PUBLISH
X-PUBLISHED-TTL:P3D
REFRESH-INTERVAL:P3D
CALSCALE:GREGORIAN
BEGIN:VEVENT
DTSTART:20200620T003000Z
DTEND:20200620T030000Z
X-MICROSOFT-CDO-ALLDAYEVENT:FALSE
SUMMARY:King City In Bloom Garden Party
DESCRIPTION:King City in Bloom Garden Party.\n\nMore info to follow.
X-ALT-DESC;FMTTYPE=text/html:King City in Bloom Garden Party.<br />\nMore info to follow.
LOCATION:The Garden House\, 650 Canal St.\, King City
UID:e.2756.4145
SEQUENCE:3
DTSTAMP:20260423T125609Z
URL:https://kingcitychamber-brooks-gzcms.preview.gochambermaster.com/events/details/king-city-in-bloom-garden-party-4145
END:VEVENT

END:VCALENDAR
