BEGIN:VCALENDAR
VERSION:2.0
PRODID:-//ChamberMaster//Event Calendar 2.0//EN
METHOD:PUBLISH
X-PUBLISHED-TTL:P3D
REFRESH-INTERVAL:P3D
CALSCALE:GREGORIAN
BEGIN:VEVENT
DTSTART:20191013T140000Z
DTEND:20191013T210000Z
X-MICROSOFT-CDO-ALLDAYEVENT:FALSE
SUMMARY:King City Flea Market
DESCRIPTION:Admission $1\n\nNew & Used Goods\n\nDelicious Food\n\nFresh Fruit & Vegetables
X-ALT-DESC;FMTTYPE=text/html:Admission $1<br />\nNew &amp\; Used Goods<br />\nDelicious Food<br />\nFresh Fruit &amp\; Vegetables
LOCATION:Salinas Valley Fairgrounds
UID:e.2756.3818
SEQUENCE:3
DTSTAMP:20260424T055808Z
URL:https://kingcitychamber-brooks-gzcms.preview.gochambermaster.com/events/details/king-city-flea-market-10-13-2019-3818
END:VEVENT

END:VCALENDAR
