BEGIN:VCALENDAR
VERSION:2.0
PRODID:-//ChamberMaster//Event Calendar 2.0//EN
METHOD:PUBLISH
X-PUBLISHED-TTL:P3D
REFRESH-INTERVAL:P3D
CALSCALE:GREGORIAN
BEGIN:VEVENT
DTSTART:20200322T190000Z
DTEND:20200322T220000Z
X-MICROSOFT-CDO-ALLDAYEVENT:FALSE
SUMMARY:King City Census Kick Off Party
DESCRIPTION:This event is cancelled.\n\nKing City Census Kick Off Party! "Count Me In 2020"\n\nJoin the City as we kick off the 2020 Census\n\nCome fill out your census forms and join the City for Food\, Entertainment\, Raffles and More!\n\nYour Response Matters - Your response can mean up to $2000 per person per year for King City for the next 10 years\, including health clinics\, fire departments\, schools\, roads and more.
X-ALT-DESC;FMTTYPE=text/html:<strong><span style="font-size:14px\;"><span style="font-family:arial\;"><span style="font-size:18px\;"><span style="color:#FF0000\;">This event is cancelled.</span></span><br />\n<span style="color:#0000FF\;">King City Census Kick Off Party!&nbsp\;</span><span style="color:#B22222\;">&quot\;Count Me In 2020&quot\;</span><br />\n<span style="color:#0000FF\;">Join the City as we kick off the 2020 Census<br />\nCome fill out your census forms and join the City for Food\, Entertainment\, Raffles and More!</span><br />\n<span style="color:#B22222\;">Your Response Matters</span><span style="color:#0000FF\;"> - Your response can mean up to $2000 per person per year for King City for the next 10 years\, including health clinics\, fire departments\, schools\, roads and more.</span></span></span></strong>
LOCATION:Near the King City Library\, 300 & 400 Block of Broadway St.
UID:e.2756.4194
SEQUENCE:3
DTSTAMP:20260423T213920Z
URL:https://kingcitychamber-brooks-gzcms.preview.gochambermaster.com/events/details/king-city-census-kick-off-party-4194
END:VEVENT

END:VCALENDAR
