BEGIN:VCALENDAR
VERSION:2.0
PRODID:-//ChamberMaster//Event Calendar 2.0//EN
METHOD:PUBLISH
X-PUBLISHED-TTL:P3D
REFRESH-INTERVAL:P3D
CALSCALE:GREGORIAN
BEGIN:VEVENT
DTSTART:20200307T180000Z
DTEND:20200307T220000Z
X-MICROSOFT-CDO-ALLDAYEVENT:FALSE
SUMMARY:KC High School Mustang Bench 7th Annual Golf Tournament
DESCRIPTION:KCHS Mustang Bench 7th Annual Golf Tournament
X-ALT-DESC;FMTTYPE=text/html:KCHS Mustang Bench 7th Annual Golf Tournament
LOCATION:King City Golf Course\, 613 S. Vanderhurst Ave\, King City
UID:e.2756.4186
SEQUENCE:3
DTSTAMP:20260423T201154Z
URL:https://kingcitychamber-brooks-gzcms.preview.gochambermaster.com/events/details/kc-high-school-mustang-bench-7th-annual-golf-tournament-4186
END:VEVENT

END:VCALENDAR
