BEGIN:VCALENDAR
VERSION:2.0
PRODID:-//ChamberMaster//Event Calendar 2.0//EN
METHOD:PUBLISH
X-PUBLISHED-TTL:P3D
REFRESH-INTERVAL:P3D
CALSCALE:GREGORIAN
BEGIN:VEVENT
DTSTART:20191005T150000Z
DTEND:20191005T200000Z
X-MICROSOFT-CDO-ALLDAYEVENT:FALSE
SUMMARY:Grace Rummage Sale
DESCRIPTION:Rummage Sale at Grace Lutheran Church. Men's\, women's and children's clothing\, household goods\, furniture\, and more!
X-ALT-DESC;FMTTYPE=text/html:Rummage Sale at Grace Lutheran Church. Men&#39\;s\, women&#39\;s and children&#39\;s clothing\, household goods\, furniture\, and more!
LOCATION:Grace Lutheran Church\, 205 Canal St.\, King City\, In the basement.
UID:e.2756.3744
SEQUENCE:3
DTSTAMP:20260424T044241Z
URL:https://kingcitychamber-brooks-gzcms.preview.gochambermaster.com/events/details/grace-rummage-sale-3744
END:VEVENT

END:VCALENDAR
