BEGIN:VCALENDAR
VERSION:2.0
PRODID:-//ChamberMaster//Event Calendar 2.0//EN
METHOD:PUBLISH
X-PUBLISHED-TTL:P3D
REFRESH-INTERVAL:P3D
CALSCALE:GREGORIAN
BEGIN:VEVENT
DTSTART:20181117T170000Z
DTEND:20181117T213000Z
X-MICROSOFT-CDO-ALLDAYEVENT:FALSE
SUMMARY:Cookie Walk! Cookies By the Pound
DESCRIPTION:Cookie Walk! Choose your Holiday cookies and treats by the pound! Specialty items priced individually. Hot drinks will be available. Brought to you by the SoMoCo Republican Women Federated.
X-ALT-DESC;FMTTYPE=text/html:Cookie Walk! Choose your Holiday cookies and treats by the pound! Specialty items priced individually. Hot drinks will be available. Brought to you by the SoMoCo Republican Women Federated.
LOCATION:Salinas Valley Fair Cafeteria Building.
UID:e.2756.2552
SEQUENCE:3
DTSTAMP:20260425T114412Z
URL:https://kingcitychamber-brooks-gzcms.preview.gochambermaster.com/events/details/cookie-walk-cookies-by-the-pound-2552
END:VEVENT

END:VCALENDAR
