BEGIN:VCALENDAR
VERSION:2.0
PRODID:-//ChamberMaster//Event Calendar 2.0//EN
METHOD:PUBLISH
X-PUBLISHED-TTL:P3D
REFRESH-INTERVAL:P3D
CALSCALE:GREGORIAN
BEGIN:VEVENT
DTSTART:20190316T160000Z
DTEND:20190316T190000Z
X-MICROSOFT-CDO-ALLDAYEVENT:FALSE
SUMMARY:Coder Dojo
DESCRIPTION:Learn to Code 6 Saturdays starting March 2\, 2019 9:00am -- 12:00pm Enrollment is for students ages 8-17 Interested: Fill out an application at https://hartnellk12stem.com/coder-dojo/
X-ALT-DESC;FMTTYPE=text/html:Learn to Code 6 Saturdays starting March 2\, 2019 9:00am -- 12:00pm Enrollment is for students ages 8-17 Interested: Fill out an application at https://hartnellk12stem.com/coder-dojo/
LOCATION:King City Education Center Room 109 & 211
UID:e.2756.3655
SEQUENCE:3
DTSTAMP:20260424T220016Z
URL:https://kingcitychamber-brooks-gzcms.preview.gochambermaster.com/events/details/coder-dojo-03-16-2019-3655
END:VEVENT

END:VCALENDAR
