BEGIN:VCALENDAR
VERSION:2.0
PRODID:-//ChamberMaster//Event Calendar 2.0//EN
METHOD:PUBLISH
X-PUBLISHED-TTL:P3D
REFRESH-INTERVAL:P3D
CALSCALE:GREGORIAN
BEGIN:VEVENT
DTSTART:20190406T010000Z
DTEND:20190406T050000Z
X-MICROSOFT-CDO-ALLDAYEVENT:FALSE
SUMMARY:Casino Night - benefit for Rancho Cielo Youth Campus
DESCRIPTION:Casino Night to benefit the Rancho Cielo Youth Campus.
X-ALT-DESC;FMTTYPE=text/html:Casino Night to benefit the Rancho Cielo&nbsp\;Youth Campus.&nbsp\;
LOCATION:Salinas Valley Fairgrounds\, Orradre Building\, 625 Division St.\, King City\, CA
UID:e.2756.3669
SEQUENCE:3
DTSTAMP:20260424T180650Z
URL:https://kingcitychamber-brooks-gzcms.preview.gochambermaster.com/events/details/casino-night-benefit-for-rancho-cielo-youth-campus-3669
END:VEVENT

END:VCALENDAR
