BEGIN:VCALENDAR
VERSION:2.0
PRODID:-//ChamberMaster//Event Calendar 2.0//EN
METHOD:PUBLISH
X-PUBLISHED-TTL:P3D
REFRESH-INTERVAL:P3D
CALSCALE:GREGORIAN
BEGIN:VEVENT
DTSTART:20191024T010000Z
DTEND:20191024T030000Z
X-MICROSOFT-CDO-ALLDAYEVENT:FALSE
SUMMARY:Cal Coastal Small Business workshop
DESCRIPTION:Cal Coastal Small Business Development Center in partnership with the King City Chamber of Commerce and the City of King will be presenting a two part educational workshop: "Is Owning a Business a Good Fit for You."\n\nThe Workshop will include:Ownership motivation\, Business ownership terms\, Myths and realities of small business ownership\, and a Self Assessment.
X-ALT-DESC;FMTTYPE=text/html:Cal Coastal Small Business Development Center in partnership with the King City Chamber of Commerce and the City of King will be presenting a two part educational workshop: &quot\;Is Owning a Business a Good Fit for You.&quot\;<br />\nThe Workshop will include:Ownership motivation\, Business ownership terms\, Myths and realities of small business ownership\, and a Self Assessment.
LOCATION:King City Council Chambers\, 212 S. Vanderhurst Ave\, King City\, CA
UID:e.2756.3776
SEQUENCE:3
DTSTAMP:20260424T044239Z
URL:https://kingcitychamber-brooks-gzcms.preview.gochambermaster.com/events/details/cal-coastal-small-business-workshop-3776
END:VEVENT

END:VCALENDAR
