BEGIN:VCALENDAR
VERSION:2.0
PRODID:-//ChamberMaster//Event Calendar 2.0//EN
METHOD:PUBLISH
X-PUBLISHED-TTL:P3D
REFRESH-INTERVAL:P3D
CALSCALE:GREGORIAN
BEGIN:VEVENT
DTSTART:20200220T193000Z
DTEND:20200220T210000Z
X-MICROSOFT-CDO-ALLDAYEVENT:FALSE
SUMMARY:Alliance on Aging South County Trashion Show
DESCRIPTION:Save the Date! 5th Annual Trashion Show. This is where art\, fashion and ecology come together to put on a great show.
X-ALT-DESC;FMTTYPE=text/html:<span style="font-size:16px\;"><span style="font-family:verdana\;">Save the Date! 5th Annual Trashion Show. This is where art\, fashion and ecology come together to put on a great show.</span></span>
LOCATION:Orradre Building\, Salinas Valley Fairgrounds\, 625 Division St.\, King City
UID:e.2756.4156
SEQUENCE:3
DTSTAMP:20260423T215506Z
URL:https://kingcitychamber-brooks-gzcms.preview.gochambermaster.com/events/details/alliance-on-aging-south-county-trashion-show-4156
END:VEVENT

END:VCALENDAR
